BEGIN:VCALENDAR
VERSION:2.0
PRODID:-//Coastal Wave Elite - ECPv6.15.17.1//NONSGML v1.0//EN
CALSCALE:GREGORIAN
METHOD:PUBLISH
X-WR-CALNAME:Coastal Wave Elite
X-ORIGINAL-URL:https://cwecheer.ca
X-WR-CALDESC:Events for Coastal Wave Elite
REFRESH-INTERVAL;VALUE=DURATION:PT1H
X-Robots-Tag:noindex
X-PUBLISHED-TTL:PT1H
BEGIN:VTIMEZONE
TZID:UTC
BEGIN:STANDARD
TZOFFSETFROM:+0000
TZOFFSETTO:+0000
TZNAME:UTC
DTSTART:20250101T000000
END:STANDARD
END:VTIMEZONE
BEGIN:VEVENT
DTSTART;TZID=UTC:20260629T090000
DTEND;TZID=UTC:20260814T160000
DTSTAMP:20260422T090950
CREATED:20260217T164554Z
LAST-MODIFIED:20260218T215215Z
UID:10000039-1782723600-1786723200@cwecheer.ca
SUMMARY:7 Week Bundle Summer Camp
DESCRIPTION:A full summer of fun at Coastal Wave Elite! Enjoy Superhero Training\, Under The Sea\, Olympic Games\, Wild World Safari\, Dance Party\, Beach Bash and Around The World themes! \n(Before Care 8:30-9:00 and After Care 4:00-4:30 PM Available) \n  \n 
URL:https://cwecheer.ca/event/7-week-bundle-summer-camp/
CATEGORIES:Summer Camps
ATTACH;FMTTYPE=image/png:https://cwecheer.ca/wp-content/uploads/2026/02/Tropical-beach-bundle-promotion.png
END:VEVENT
BEGIN:VEVENT
DTSTART;TZID=UTC:20260713T090000
DTEND;TZID=UTC:20260717T160000
DTSTAMP:20260422T090950
CREATED:20260217T165853Z
LAST-MODIFIED:20260218T215107Z
UID:10000042-1783933200-1784304000@cwecheer.ca
SUMMARY:Olympic Games Week
DESCRIPTION:Get ready to train\, compete\, and celebrate like an Olympian at our Olympic Games–Themed Summer Camp! This action-packed camp is designed to inspire campers through movement\, teamwork\, and fun while introducing them to a wide variety of sports and games inspired by the Olympic Games.Throughout the week\, campers will be divided into teams representing different countries and will rotate through Olympic-style events such as track and field games\, obstacle courses\, relay races\, team challenges\, and skill-based competitions. Each activity is designed to be age-appropriate\, inclusive\, and focused on participation\, effort\, and sportsmanship. \n(Before and after care 8:30-9:00\, 4:00-4:30 Available) \nEarly bird rate\, ends March 31st! \n  \n 
URL:https://cwecheer.ca/event/olympic-games-week/
CATEGORIES:Summer Camps
ATTACH;FMTTYPE=image/png:https://cwecheer.ca/wp-content/uploads/2026/02/Olympic-Games-summer-camp-excitement.png
END:VEVENT
END:VCALENDAR